BEGIN:VCALENDAR
VERSION:2.0
PRODID:-//UnitedHealth Group - ECPv5.8.0//NONSGML v1.0//EN
CALSCALE:GREGORIAN
METHOD:PUBLISH
X-WR-CALNAME:UnitedHealth Group
X-ORIGINAL-URL:https://careers.unitedhealthgroup.com
X-WR-CALDESC:Events for UnitedHealth Group
BEGIN:VTIMEZONE
TZID:America/Los_Angeles
BEGIN:DAYLIGHT
TZOFFSETFROM:-0800
TZOFFSETTO:-0700
TZNAME:PDT
DTSTART:20210314T100000
END:DAYLIGHT
BEGIN:STANDARD
TZOFFSETFROM:-0700
TZOFFSETTO:-0800
TZNAME:PST
DTSTART:20211107T090000
END:STANDARD
END:VTIMEZONE
BEGIN:VEVENT
DTSTART;TZID=America/Los_Angeles:20210922T190000
DTEND;TZID=America/Los_Angeles:20210922T203000
DTSTAMP:20210913T175551
CREATED:20210902T051832Z
LAST-MODIFIED:20210902T051832Z
UID:13999-1632337200-1632342600@careers.unitedhealthgroup.com
SUMMARY:Optum Virtual Dinner for Pacific Northwest Internal Medical Residents
DESCRIPTION:Back to Events \nEventsJoin The Everett Clinic & The Polyclinic\, part of Optum\, on Wednesday\, September 22nd from 7-8:30PM PT for a Virtual Dinner for Internal Medicine Physician Residents. This event will feature a panel of physician leaders who will discuss Career Pathways for Internal Medicine Residents. After the discuss you’ll have the opportunity to ask questions in breakout rooms with other residents and recruiters. \nClick here to RSVP! \nContact Jamie.Piemontese@optum.com with any questions.
URL:https://careers.unitedhealthgroup.com/event/optum-virtual-dinner-for-pacific-northwest-internal-medical-residents/
CATEGORIES:Virtual
END:VEVENT
END:VCALENDAR