BEGIN:VCALENDAR
VERSION:2.0
PRODID:-//UnitedHealth Group - ECPv5.5.0.1//NONSGML v1.0//EN
CALSCALE:GREGORIAN
METHOD:PUBLISH
X-WR-CALNAME:UnitedHealth Group
X-ORIGINAL-URL:https://careers.unitedhealthgroup.com/pt-br/
X-WR-CALDESC:Eventos para UnitedHealth Group
BEGIN:VTIMEZONE
TZID:America/Sao_Paulo
BEGIN:STANDARD
TZOFFSETFROM:-0300
TZOFFSETTO:-0300
TZNAME:-03
DTSTART:20210101T000000
END:STANDARD
END:VTIMEZONE
BEGIN:VEVENT
DTSTART;TZID=America/Sao_Paulo:20210210T140000
DTEND;TZID=America/Sao_Paulo:20210210T150000
DTSTAMP:20210526T210747
CREATED:20201104T141311Z
LAST-MODIFIED:20210126T202538Z
UID:9743-1612965600-1612969200@careers.unitedhealthgroup.com
SUMMARY:UHG ao Vivo: começando uma carreira como estagiário(a)
DESCRIPTION:Voltar para Lista de Eventos \nUHG ao Vivo: começando uma carreira como estagiário(a)Procurar uma oportunidade de emprego é um dos momentos mais importantes da nossa vida profissional. Aqui no UnitedHealth Group acreditamos que um emprego não deve te definir\, deve te representar. Com esse pensamento trabalhamos diariamente com empenho\, dedicação e compaixão para aqueles(as) que servimos. \nExatamente por essa razão\, nós queremos mostrar para você um pouco do dia a dia dos(as) colaboradores(as) do UnitedHealth Group! Na nossa primeira sessão ao vivo pelo Youtube em 2021\, você poderá ver os desafios e conquistas de colaboradores(as) que começaram suas carreiras como estagiários no UnitedHealth Group. \nO melhor disso tudo? Você ainda poderá se inscrever nas nossas vagas e iniciar seu processo seletivo conosco! \nClique aqui e se inscreva 
URL:https://careers.unitedhealthgroup.com/pt-br/event/uhg-ao-vivo-comecando-uma-carreira-como-estagiarioa/
LOCATION:Virtual – Brasil\, United States
CATEGORIES:Diversidade,Virtual
END:VEVENT
END:VCALENDAR